BEGIN:VCALENDAR
VERSION:2.0
X-WR-TIMEZONE:Europe/Paris
PRODID:-//Audencia//NONSGML v1.0//EN
CALSCALE:GREGORIAN
BEGIN:VEVENT
SUMMARY:Audencia Alumni Around the World in London, UK
DTSTART:20200311T190000
DTEND:20200311T223000
UID:630
DTSTAMP:20260425T184022
LOCATION:THE DRIVER 2-4 Wharfdale Rd, Islington, London N1 9RY
DESCRIPTION:The London alumni community hosts the inaugural event for Around the World 2020\n\nCome and and join your ambassador Tirstan Pelloux to celebrate the School's 120th anniversary with past and present Audencians and enjoy an evening of networking and refreshments in fine company:\n \n\n	Date: Wednesday 11 March\n	Time: from 19:00\n	Venue: The Driver, 2-4 Wharfdale Rd, London\n\n\nGuests will include staff from Audencia who will bring you the latest news of your school:\n\n	Beatrice du Mesnil, professor and director of the MCI specialised master\n	Patricia Munoz-King, international corporate relations manager\n	Karyn Mikkelsen-Tillet, fundraising manager\n\n\n \n\nWe will also ask you to consider the international aspect of the 2021-2025 strategic plan, so come along with a few ideas!\n \n\n \nTo discover which cities are hosting an Around the World event, click on the image below\n \n\n
BEGIN:VALARM
ACTION:DISPLAY
TRIGGER:-PT60M
DESCRIPTION:Audencia Alumni Around the World in London, UK
END:VALARM
END:VEVENT
END:VCALENDAR