BEGIN:VCALENDAR
VERSION:2.0
X-WR-TIMEZONE:Europe/Paris
PRODID:-//Audencia//NONSGML v1.0//EN
CALSCALE:GREGORIAN
BEGIN:VEVENT
SUMMARY:Audencia Alumni Around the World in Toronto, Canada
DTSTART:20200314T160000
DTEND:20200314T180000
UID:632
DTSTAMP:20260425T184023
LOCATION:DROM Taberna 458 Queen St W Toronto, ON M5V 2A8 Canada
DESCRIPTION:Come to the Toronto chapter's pre-tower climb briefing session!\n\nThis will be a time to chill and share with fellow Audencians your aims and personal objectives for the 2020 CNN Tower climb coming up in April.\n\nDate: Saturday 14 March 2020\nTime: from 16:00\nVenue: DROM Taberna, 458 Queen St W, Toronto\n\nRest assured, training will begin in earnest at a later date!\n \n\nTo discover which cities are hosting an Around the World event, click on the image below\n \n
BEGIN:VALARM
ACTION:DISPLAY
TRIGGER:-PT60M
DESCRIPTION:Audencia Alumni Around the World in Toronto, Canada
END:VALARM
END:VEVENT
END:VCALENDAR