BEGIN:VCALENDAR
VERSION:2.0
X-WR-TIMEZONE:Europe/Paris
PRODID:-//Audencia//NONSGML v1.0//EN
CALSCALE:GREGORIAN
BEGIN:VEVENT
SUMMARY:Audencia Alumni Around the World in Algiers, Algeria
DTSTART:20200314T160000
DTEND:20200314T190000
UID:634
DTSTAMP:20260425T184001
LOCATION:Hôtel Aurassi  Avenue du Docteur Frantz Fanon Algiers
DESCRIPTION:Meet us in Algiers الجزائر‎ Alger\n\nWhatever your chosen language, join Audencians in Algeria's capital city on Saturday 14 March from 16:00 to 19:00 at the Hôtel Aurassi (Avenue du Docteur Frantz Fanon) for an alumni gathering to celebrate Audencia's 120th anniversary. \n\nValérie Claude-Gaudillat, Audencia professor and Director of Innovation, will attend the event.\n\n\nTo discover which cities are hosting an Around the World event, click on the image below\n \n
BEGIN:VALARM
ACTION:DISPLAY
TRIGGER:-PT60M
DESCRIPTION:Audencia Alumni Around the World in Algiers, Algeria
END:VALARM
END:VEVENT
END:VCALENDAR