BEGIN:VCALENDAR
VERSION:2.0
X-WR-TIMEZONE:Europe/Paris
PRODID:-//Audencia//NONSGML v1.0//EN
CALSCALE:GREGORIAN
BEGIN:VEVENT
SUMMARY:POSTPONED! Audencia Alumni Around the World in New York, USA
DTSTART:20200316T183000
DTEND:20200316T220000
UID:635
DTSTAMP:20260425T183936
LOCATION:104 E 7th St New York NY 10009 USA
DESCRIPTION:The New York stopover of Around the World has been postponed.\n\n\nAs soon as we know more about the new date for this event, we will share the details with you.\n\n\nThis is a shout-out for foodies in New York City!\n\nRemember the hour of yoga in 2019? For this year's Around the World event in New York City, alumnae Laurene and Eva have surpassed themselves. Audencians are invited to a delicious vegan desserts workshop:\n\nDate: Monday 16 March\nTime: from 18:30\nWorkshop: Making Delicious Vegan Desserts \nVenue: 104 E 7th St, New York, NY 10009\n\nProgramme:\n18:30-19:00 Participants arrive and get their aprons on\n19:00-20:00 Dessert workshop\n20:00-22:00 Refreshments and networking in a nearby location\n\nMatthieu Bonnamy, Audencia's new head of alumni relations, will be joing the event and is looking forward to meeting the New York community.\n \n\nTo discover which cities are hosting an Around the World event, click on the image below\n \n
BEGIN:VALARM
ACTION:DISPLAY
TRIGGER:-PT60M
DESCRIPTION:POSTPONED! Audencia Alumni Around the World in New York, USA
END:VALARM
END:VEVENT
END:VCALENDAR