BEGIN:VCALENDAR
VERSION:2.0
X-WR-TIMEZONE:Europe/Paris
PRODID:-//Audencia//NONSGML v1.0//EN
CALSCALE:GREGORIAN
BEGIN:VEVENT
SUMMARY:POSTPONED! Audencia Alumni Around the World in Amsterdam, Netherlands
DTSTART:20200318T183000
DTEND:20200318T210000
UID:637
DTSTAMP:20260425T184001
LOCATION:Brouwerij Troost Westergas  Pazzanistraat 27 1014 DB Amsterdam Netherlands
DESCRIPTION:The Amsterdam stopover of Around the World has been postponed.\n\nAs soon as we know more about the new date for this event, we will share the details with you.\n\nAudencia Around the World heads to Amsterdam on Wednesday 18 March\n\nJoin alumni, students and friends for an evening of celebrations and networking in honour of Audencia's 120th anniversary.\n\nOn the programme:\n\n	18:30-20:00 - Guided visit of the Brouwerij Troost Westergas\n	20:00-until whenever - Borrel (Dutch apéritif) and a live jazz concert\n\n \n\nBrouwerij Troost Westergas is a brewery, brewpub and shop in one. At this brewery the bigger quantities of beers like Pilsner, Weizen, I.P.A. and Amber Ale are being brewed. And not only beers are brewed here, but we also produce our own lemonades. Annually we are brewing and bottling 700,000 liters on the Westergasterrein, and we are thereby Amsterdams biggest independent brewery. Also, Brouwerij Troost Westergas is the place where you can get a guided tour! And did you know that we also have a stage for live jazz on the roof of our shop? Every Wednesday at 8:00 PM, live Jazz!\n\n \nTo discover which cities are hosting an Around the World event, click on the image below\n \n\n\n 
BEGIN:VALARM
ACTION:DISPLAY
TRIGGER:-PT60M
DESCRIPTION:POSTPONED! Audencia Alumni Around the World in Amsterdam, Netherlands
END:VALARM
END:VEVENT
END:VCALENDAR