BEGIN:VCALENDAR
VERSION:2.0
X-WR-TIMEZONE:Europe/Paris
PRODID:-//Audencia//NONSGML v1.0//EN
CALSCALE:GREGORIAN
BEGIN:VEVENT
SUMMARY:POSTPONED! Audencia Alumni Around the World in Casablanca, Morocco
DTSTART:20200319T190000
DTEND:20200319T210000
UID:640
DTSTAMP:20260425T183853
LOCATION:TBC Casablanca Morocco
DESCRIPTION:This is a message from the organisers of the Casablanca stopover...\n\nBonjour à tous,\nDepuis quelques semaines, l’équipe Audencia Alumni Maroc préparait pour vous une mini-conférence, qui devait faire partie de la seconde édition d’Audencia Around the World, et dans laquelle nous devions accueillir M. Christophe Germain, directeur général et doyen d’Audencia Group.\nVous l’aurez compris à l’utilisation de l’imparfait, et en raison des récents développements du Covid-19, c’est avec grand regret que M. Germain a dû annuler son déplacement et que nous devons aussi annuler notre événement malheureusement.\nCe n’est que partie remise... D’ici-là, prenez soin de vous, lavez-vous bien les mains et évitez les endroits publics.\nBonne semaine à toutes et à tous !\nYassine\n\nAs soon as we know more about the new date for this event, we will share the details with you.\n\nAudencia Around the World will arrive in Casablanca at the end of its 8-day journey\n\nAfter eight days circumnavigating the globe, the closing event of Audencia Around the World will take place in Casablanca in the presence of Christophe Germain, Dean of Audencia.\n\nJoin him and the Audencian community from 19:00 on Thursday 19 March\n\nFull details of the venue and programme to be announced soon!\n \n\nTo discover which cities are hosting an Around the World event, click on the image below\n \n
BEGIN:VALARM
ACTION:DISPLAY
TRIGGER:-PT60M
DESCRIPTION:POSTPONED! Audencia Alumni Around the World in Casablanca, Morocco
END:VALARM
END:VEVENT
END:VCALENDAR