BEGIN:VCALENDAR
VERSION:2.0
X-WR-TIMEZONE:Europe/Paris
PRODID:-//Audencia//NONSGML v1.0//EN
CALSCALE:GREGORIAN
BEGIN:VEVENT
SUMMARY:POSTPONED! Audencia Alumni Around the World in Montréal, Canada
DTSTART:20200319T170000
DTEND:20200319T200000
UID:643
DTSTAMP:20260425T183854
LOCATION:Centrale Culinaire Suite 311 5333 avenue Casgrain Montréal Canada
DESCRIPTION:The Montréal stopover of Around the World has been postponed.\n\n\nAs soon as we know more about the new date for this event, we will share the details with you.\n\n\nWhat would be the best way to celebrate an anniversary?\n\nOn the occasion of Audencia Around the World and to celebrate the School's 120th anniversary, we are concocting a feast of events for alumni in Montréal.\n\nCome and join Audencia alumni and friends on Thursday 19 March from 17:00 at la Centrale Culinaire, Suite 311, 5333 avenue Casgrain, Montréal.\nLaura Belfadla (GE 05) has prepared a culinary event for you:\n\nProgramme:\n17:00-17:20 Arrival and introductions\n17:20-17:30 Welcome message and presentation by Laura\n17:30-17:45 Presentation of the evening's objectives by the cookery teacher\n17:45-19:00 Alumni prepare a starter, main cousre and desert\n19:00-20:00 Bon appétit!\n\nWe also are delighted to welcome Audencia professors to the event, so this also be an opportnity to catch up on the lastest news from your favourite school!\n\nTo discover which cities are hosting an Around the World event, click on the image below\n \n
BEGIN:VALARM
ACTION:DISPLAY
TRIGGER:-PT60M
DESCRIPTION:POSTPONED! Audencia Alumni Around the World in Montréal, Canada
END:VALARM
END:VEVENT
END:VCALENDAR