BEGIN:VCALENDAR
VERSION:2.0
X-WR-TIMEZONE:Europe/Paris
PRODID:-//Audencia//NONSGML v1.0//EN
CALSCALE:GREGORIAN
BEGIN:VEVENT
SUMMARY:POSTPONED! Audencia Alumni Around the World in Luxembourg
DTSTART:20200317T183000
DTEND:20200317T220000
UID:646
DTSTAMP:20260425T183924
LOCATION:Philharmonie backstage visit:  1 Place de l'Europe, 1499 Luxembourg Afterwards: Barrels, 21 Allée Scheffer, 2520 Luxembourg
DESCRIPTION:\nThe Luxembourg stopover of Around the World has been postponed.\n\nAs soon as we know more about the new date for this event, we will share the details with you.\n\nAudencia Alumni in Luxembourg are joining the adventure Around the World\n\nJoin them on Tuesday 17 March from 18:30 for a backstage journey of discovery.\n\nOn the programme:\n18:30-19:30 Backstage visit of the Philharmonie, 1 Place de l'Europe, 1499 Luxembourg\n19:45-22:00 Finger food and drinks at Barrels, 21 Allée Scheffer, 2520 Luxembourg\n\n\n \n\nTo discover which cities are hosting an Around the World event, click on the image below\n \n
BEGIN:VALARM
ACTION:DISPLAY
TRIGGER:-PT60M
DESCRIPTION:POSTPONED! Audencia Alumni Around the World in Luxembourg
END:VALARM
END:VEVENT
END:VCALENDAR