BEGIN:VCALENDAR
VERSION:2.0
X-WR-TIMEZONE:Europe/Paris
PRODID:-//Audencia//NONSGML v1.0//EN
CALSCALE:GREGORIAN
BEGIN:VEVENT
SUMMARY:POSTPONED! Audencia Alumni Around the World in Sydney, Australia
DTSTART:20200318T183000
DTEND:20200318T210000
UID:654
DTSTAMP:20260425T183936
LOCATION:Watsons Bay Boutique Hotel 1 Military Rd Watsons Bay NSW 2030 Australia
DESCRIPTION:The Sydney stopover of Around the World has been postponed.\n\nAs soon as we know more about the new date for this event, we will share the details with you.\n\nCome and relax and enjoy those fabulous views of Sydney!\n\nJoin Audencia alumni, students and friends from 18:30 on Wednesday 18 March for a relaxed Aussie-style gathering at the Watsons Bay Boutique Hotel on Watsons Bay. Watch the world go by and catch up on the latest news from your favourite school!\n \n\nTo discover which cities are hosting an Around the World event, click on the image below\n\n \n
BEGIN:VALARM
ACTION:DISPLAY
TRIGGER:-PT60M
DESCRIPTION:POSTPONED! Audencia Alumni Around the World in Sydney, Australia
END:VALARM
END:VEVENT
END:VCALENDAR