BEGIN:VCALENDAR
VERSION:2.0
X-WR-TIMEZONE:Europe/Paris
PRODID:-//Audencia//NONSGML v1.0//EN
CALSCALE:GREGORIAN
BEGIN:VEVENT
SUMMARY:Audencia Alumni Around the World in Brussels, Belgium
DTSTART:20200311T183000
DTEND:20200311T213000
UID:658
DTSTAMP:20260425T183924
LOCATION:La Cuisine de Flore Rue du Berger, 45 1050 Brussels Belgium
DESCRIPTION:Join alumna Flore (GE 04) for a culinary challenge!\n\nShe is looking forward to testing your gastronomic expertise and sitting down with you to taste the results of your efforts.\nJoin her from 18:30 to 21:30 on Wednesday 11 March for a delicious Around the World alumni evening.\n \n\nTo discover which cities are hosting an Around the World event, click on the image below\n \n
BEGIN:VALARM
ACTION:DISPLAY
TRIGGER:-PT60M
DESCRIPTION:Audencia Alumni Around the World in Brussels, Belgium
END:VALARM
END:VEVENT
END:VCALENDAR