BEGIN:VCALENDAR
VERSION:2.0
X-WR-TIMEZONE:Europe/Paris
PRODID:-//Audencia//NONSGML v1.0//EN
CALSCALE:GREGORIAN
BEGIN:VEVENT
SUMMARY:Atelier-Découverte : « Initiation à la création d’applications mobiles »
DTSTART:20170921T193000
DTEND:20170921T213000
UID:66
DTSTAMP:20260420T041112
LOCATION:Campus Audencia Paris - 95 rue Falguière - Paris XV
DESCRIPTION:Lire, écrire, compter... coder : savoir programmer est devenu une compétence de plus en plus plébiscitée ces dernières années, et pas seulement pour les jeunes.\n \nComment mettre ce genre d'initiative concrètement à l'oeuvre au sein de ses équipes, et pour quels bénéfices concrets ? Quel intérêt immédiat pour des équipes marketing ?\n\nLors de cet atelier-découverte animé par Youmna Ovazza, fondatrice de Teen-Code et d'Executive-Code, vous aurez l'occasion de valider par vous-même l'intérêt de cette démarche !\n \n\n•Vous aurez une initiation concrète et immédiatement opérationnelle à la programmation : vous créerez vous-même votre première application mobile en 2 heures !\n\n•Vous expérimenterez par vous-même la création de projet en mode agile, à l'échelle de l'atelier\n\n•Vous démystifierez la technique dans un objectif de meilleure efficacité dans vos projets mobiles et numériques\nVous aurez enfin les bonnes clés de réflexion pour initier une telle démarche au sein de vos équipes d'une manière opérationnelle et adaptée à vos métiers\n\nMerci svp de venir avec votre ordinateur + votre tablette/téléphone portable (Android uniquement)\n\nLes échanges se poursuivront autour d'un cocktail convivial\n\nPour en savoir plus sur l'initiation à la création d'applications mobiles :\nhttps://www.linkedin.com/pulse/sinitier-%C3%A0-la-programmation-quelle-utilit%C3%A9-pour-un-cadre-ovazza\n 
BEGIN:VALARM
ACTION:DISPLAY
TRIGGER:-PT60M
DESCRIPTION:Atelier-Découverte : « Initiation à la création d’applications mobiles »
END:VALARM
END:VEVENT
END:VCALENDAR