BEGIN:VCALENDAR
VERSION:2.0
X-WR-TIMEZONE:Europe/Paris
PRODID:-//Audencia//NONSGML v1.0//EN
CALSCALE:GREGORIAN
BEGIN:VEVENT
SUMMARY:Audencia Alumni Around the World in Lagos, Nigeria
DTSTART:20200313T180000
DTEND:20200313T200000
UID:667
DTSTAMP:20260425T164913
LOCATION:Alliance Française / Mike Adenuga Centre 9 Osborne Rd Ikoyi Lagos Nigeria
DESCRIPTION:Audencia Alumni in Lagos are celebrating Around the World with a hangout in a French bakery!\n\nCome and join them for an informal gathering from 18:00 on Friday 13 March at the Alliance Française / Mike Adenuga Centre (9 Osborne Rd, Ikoyi, Lagos). Although not visible from outside, Maison Eric Kayser owns a nice boulangerie and outdoor seat-out space which will work perfectly for our hangout. \n \n\nTo discover which cities are hosting an Around the World event, click on the image below\n \n
BEGIN:VALARM
ACTION:DISPLAY
TRIGGER:-PT60M
DESCRIPTION:Audencia Alumni Around the World in Lagos, Nigeria
END:VALARM
END:VEVENT
END:VCALENDAR