BEGIN:VCALENDAR
VERSION:2.0
X-WR-TIMEZONE:Europe/Paris
PRODID:-//Audencia//NONSGML v1.0//EN
CALSCALE:GREGORIAN
BEGIN:VEVENT
SUMMARY:Webinar: Make a successful career change
DTSTART:20200403T130000
DTEND:20200403T140000
UID:670
DTSTAMP:20260425T165045
LOCATION:
DESCRIPTION:Make a successful career change\n\nDate: 3 April 2020\nTime: 13:00-14:00 Paris time\nChanging careers comes with a range of professional and personal rewards but making the transition to a new role in a globally competitive market can be challenging and daunting. During this webinar, our expert speakers will share the key principles for making a successful career change; whether it is by function, sector, country or all three.\n\nUnderstand how to leverage your existing skills and professional experience, as well as your learning environment on the MBA, to create the pathway to your new role.\n\nThis webinar will challenge you to think about your transition from a market-driven perspective, so you are able to better understand the drivers and expectations of potential recruiters around hiring MBAs and how you can overcome these.\n\nOur insights will also include case studies of our own MBA clients and the strategies they used to successfully career change.\nAbout the speakers\nYasmina Mallam-Hassam and Sarmini Ghosh are experienced MBA career consultants and Co-Founders of Own Your Talent, a career management consultancy helping executives, experienced professionals and graduates harness their talent to achieve career success.\nYasmina is the former Director of HEC Paris Career Centre and also managed the careers team at Imperial College Business School.\nSarmini previously managed graduate recruitment at Olswang LLP before changing career to coaching and leading the flagship MBA Career and Professional Development programme at Imperial College Business School.\n\n \nTo join the webinar\nREGISTER HERE\n \n\nDid you graduate from an AMBA-accredited programme at Audencia?\nThis webinar is accessible to students or alumni of an AMBA-accredited programme at Audencia, i.e., Executive MBA, EuroMBA, Full-Time MBA or Master in Management (Grande Ecole Programme), but registration is required. Registering as an alum of an AMBA-accredited programme takes only a few minutes.\nThis event is free for AMBA members to attend but registration is required using the link above.
BEGIN:VALARM
ACTION:DISPLAY
TRIGGER:-PT60M
DESCRIPTION:Webinar: Make a successful career change
END:VALARM
END:VEVENT
END:VCALENDAR