BEGIN:VCALENDAR
VERSION:2.0
X-WR-TIMEZONE:Europe/Paris
PRODID:-//Audencia//NONSGML v1.0//EN
CALSCALE:GREGORIAN
BEGIN:VEVENT
SUMMARY:Audencia Alumni Around the World in Vancouver, Canada
DTSTART:20200312T183000
DTEND:20200312T203000
UID:672
DTSTAMP:20260425T183925
LOCATION:MAHONY Vancouver Convention Centre West Building Burrard Landing Vancouver Canada
DESCRIPTION:\nDare to join Audencia Alumni and friends in Vancouver!\n\nDate: Thursday 12 March\nTime: from 18:30\nPlace: MAHONY, Vancouver Convention Centre West Building, Burrard Landing\n \n\nTo discover which cities are hosting an Around the World event, click on the image below\n \n
BEGIN:VALARM
ACTION:DISPLAY
TRIGGER:-PT60M
DESCRIPTION:Audencia Alumni Around the World in Vancouver, Canada
END:VALARM
END:VEVENT
END:VCALENDAR