BEGIN:VCALENDAR
VERSION:2.0
X-WR-TIMEZONE:Europe/Paris
PRODID:-//Audencia//NONSGML v1.0//EN
CALSCALE:GREGORIAN
BEGIN:VEVENT
SUMMARY:POSTPONED! Audencia Alumni Around the World in Sao Paulo, Brazil
DTSTART:20200319T190000
DTEND:20200319T223000
UID:673
DTSTAMP:20260425T183853
LOCATION:FGV EAESP Schools Restaurant 432 rua itapeva Sao Paulo Brazil
DESCRIPTION:The Sao Paulo stopover of Around the World has been postponed.\n\n\nAs soon as we know more about the new date for this event, we will share the details with you.\n\nWhether it's soup or sushi, let's have our inaugural chapter meeting around a dinner table!\n\nJoin Sao Paulo alumni and friends at the FGV EAESP Schools Restaurant in a calm ambiance and with fine company.\n\nDate: Thursday 19 March\nTime: from 19:30\nPlace: FGV EAESP Schools Restaurant, 432 rua itapeva, Metro MASP, Sao Paulo\n \n\nTo discover which cities are hosting an Around the World event, click on the image below\n \n
BEGIN:VALARM
ACTION:DISPLAY
TRIGGER:-PT60M
DESCRIPTION:POSTPONED! Audencia Alumni Around the World in Sao Paulo, Brazil
END:VALARM
END:VEVENT
END:VCALENDAR