BEGIN:VCALENDAR
VERSION:2.0
X-WR-TIMEZONE:Europe/Paris
PRODID:-//Audencia//NONSGML v1.0//EN
CALSCALE:GREGORIAN
BEGIN:VEVENT
SUMMARY:POSTPONED! Audencia Alumni Around the World in Mumbai, India
DTSTART:20200321T190000
DTEND:20200321T210000
UID:678
DTSTAMP:20260425T184001
LOCATION:TBC ASAP! Mumbai India
DESCRIPTION:The Mumbai stopover of Around the World has been postponed.\n\nAs soon as we know more about the new date for this event, we will share the details with you.\n\nAlumni in Mumbai!\n\nAudencia Alumni and friends are meeting in Mumbai to celebrate the School's 120th anniversary.\n\nIf, like them, you are feeling in the mood for a celebration, come and join them on Saturday 21 March from 19:00.\n\nMore details on the venue are coming soon!\n\nArchita & Sameer\n\nTo discover which cities are hosting an Around the World event, click on the image below\n \n
BEGIN:VALARM
ACTION:DISPLAY
TRIGGER:-PT60M
DESCRIPTION:POSTPONED! Audencia Alumni Around the World in Mumbai, India
END:VALARM
END:VEVENT
END:VCALENDAR