BEGIN:VCALENDAR
VERSION:2.0
X-WR-TIMEZONE:Europe/Paris
PRODID:-//Audencia//NONSGML v1.0//EN
CALSCALE:GREGORIAN
BEGIN:VEVENT
SUMMARY:Atelier : Réoxygéner sa créativité avec Blandine (GE 94)
DTSTART:20200616T180000
DTEND:20200616T190000
UID:737
DTSTAMP:20260425T224935
LOCATION:
DESCRIPTION:Avec cette période de changements majeurs, la créativité n’est pas un luxe, elle est notre quotidien !!\n\n \n\nDiplômée Audencia GE 94, ancien responsable marketing et export dans le luxe, aujourd’hui artiste peintre et entrepreneur.\n\nPassionnée par le sujet de la créativité tant artistique qu’entrepreneuriale !\n\n \n\nBlandine Etienne Kahn vous proposera de : \n\n• Prendre la mesure de votre créativité et de son fonctionnement\n• Découvrir des outils pour rendre votre créativité plus accessible, dynamique et efficace\n• Répondre à vos questions\n \n\nTout cela avec humour et de nombreuses références au monde artistique.\n\nWebsite : www.envied1peinture.com\nInstagram : blandine.ek
BEGIN:VALARM
ACTION:DISPLAY
TRIGGER:-PT60M
DESCRIPTION:Atelier : Réoxygéner sa créativité avec Blandine (GE 94)
END:VALARM
END:VEVENT
END:VCALENDAR