BEGIN:VCALENDAR
VERSION:2.0
X-WR-TIMEZONE:Europe/Paris
PRODID:-//Audencia//NONSGML v1.0//EN
CALSCALE:GREGORIAN
BEGIN:VEVENT
SUMMARY:Virtual career fair: big tech, engineering, biotech, pharma and telecom
DTSTART:20201117T000000
DTEND:20201119T235900
UID:795
DTSTAMP:20260425T183853
LOCATION:
DESCRIPTION:17 to 19 November: join the Highered virtual career fair focusing on big tech, engineering, biotech, pharma and telecom\n \n\n \n\nRecruiters from all over the globe will be in attendance to connect with students and alumni from top ranked schools interested in pursuing graduate programmes, internships and experienced hire opportunities in the areas of  big tech, engineering, biotech, pharma and telecom. \n \n\nREGISTER HERE\n\n\nThe event entails a sophisticated job fair simulation environment that enables real-time interaction between candidates and recruiters.\n\n\n	Target Audience\n	- Bachelors\n	- Specialised Masters\n	- Masters in Management\n	- MBAs (both PT and FT programmes)\n	- Alumni \n	 \n	Recruiters\n	Participating companies and organisations will be recruiting for management and rotational programmes, as well as internships and full-time positions.\n	 \n	GDPR\n	The Highered platform, including the virtual fair solution, is GDPR compliant. Your contact information will be shared only with those companies and organisations with which you choose to engage during the fair in order to allow them to follow-up with you following the event.\n	 \n	Chat\n	The chat functionality allows you to approach the recruiters and hiring managers from the specific companies and organisations of your interest. Recruiters cannot source you or reach out to you directly unless you initiate contact. Recruiters may choose to invite you to face-to-face online meetings on platforms such as Zoom, Teams, Google Meetings, etc. by sending you an invitation in the written chat.\n\n\n\nDay 1: preparation day\nDays 2 & 3: recruiting days\n\n\n\n\n\nANY QUESTIONS ABOUT THE EVENT?\nReach out to Christian Ashong and Katrin Erdmann\nAudencia's Highered student ambassadors:\n\n\n 
BEGIN:VALARM
ACTION:DISPLAY
TRIGGER:-PT60M
DESCRIPTION:Virtual career fair: big tech, engineering, biotech, pharma and telecom
END:VALARM
END:VEVENT
END:VCALENDAR