BEGIN:VCALENDAR
VERSION:2.0
X-WR-TIMEZONE:Europe/Paris
PRODID:-//Audencia//NONSGML v1.0//EN
CALSCALE:GREGORIAN
BEGIN:VEVENT
SUMMARY:Parcours Carrière Jeunes Diplômés : Définir son projet
DTSTART:20171027T090000
DTEND:20171027T173000
UID:83
DTSTAMP:20260426T001310
LOCATION:95 rue Falguière 75015 Paris
DESCRIPTION:Un parcours ciblé pour les Jeunes Diplômés (moins de 3 ans d'expérience professionnelle) \n \nCe parcours est pour toi si : \n- Tu souhaites rejoindre la dynamique d’un groupe pour construire ton projet, renforcer tes talents et ta confiance \n- Tu es à la recherche de ton premier job / second job \n- Tu souhaites obtenir des conseils pour piloter ta carrière professionnelle\n \nDéfinir son projet \n\n1. Mieux se connaître pour avancer dans son projet \n2. Mieux connaître ses motivations pour décider de ses choix professionnels \n3. S'engager dans un plan d'action\n \nOutils & Méthodes : \nAtelier interactif en groupe de 6 à 12 personnes\nInventaire d'intérêts professionnels STRONG® (motivations) \n\nAu programme : réflexion sur soi appuyée sur des tests reconnus (MBTI, STRONG), identification des compétences, ajustement du projet puis déploiement et confrontation avec un professionnel du recrutement. La méthode de travail a fait ses preuves et alterne travail en groupe, en individuel et entretien. \n\n \nINSCRIPTION A LA CARTE \n\nParcours complet (2 Jours) - 27 octobre & 10 novembre 2017 : Définir et déployer son projet\nJour 2 - 10 novembre 2017 : Déployer son projet \n 
BEGIN:VALARM
ACTION:DISPLAY
TRIGGER:-PT60M
DESCRIPTION:Parcours Carrière Jeunes Diplômés : Définir son projet
END:VALARM
END:VEVENT
END:VCALENDAR