BEGIN:VCALENDAR
VERSION:2.0
X-WR-TIMEZONE:Europe/Paris
PRODID:-//Audencia//NONSGML v1.0//EN
CALSCALE:GREGORIAN
BEGIN:VEVENT
SUMMARY:Webinar Engineer-Managers “Impact of COVID-19 on Supply Chain management”
DTSTART:20210114T130000
DTEND:20210114T140000
UID:841
DTSTAMP:20260425T153422
LOCATION:
DESCRIPTION:\nDear Engineer-Managers,\n \nFirst of all, we wish you a happy, healthy and prosperous new year.\n\nWe are pleased to meet you on Thursday, 14 January at 1pm (French time) between engineer-manager Alumni.\n\nProgramme:\n1- The important challenges for your community will be communicated by:\n·         Nicolas Arnaud, Director of Programmes & Director of the Grande Ecole Programme\n·         and François Constant, Director of MSc Supply Chain & Purchasing Management\n \n2- Professor Thomas Johnsen will discuss with you on "Impact of COVID-19 on Supply Chain management”.\nSupply chain have been severely tested by the COVID-19 crisis, exposing problematic practices that resulted in supply chain disruptions. Companies have had to learn from their mistakes and re-build their supply chains as more flexible and resilient.\nIn this webinar, we will discuss what lessons have been learned by companies drawing from the recent survey of companies along with Andreina Carolina Rodriguez (MSCPM 19) working with Swarovski and Mattia Covezzi (MSCPM 18) working with Nestlé will share their experiences.\n \nThe event will take place via Microsoft Teams and the link will be shared when you register (button on top of this page).\n \nLooking forward to your presence.\n \nLaëtitia Caliez & Nushad Merchant\nAudencia Alumni Relations Managers\n \n\nClick here to join the meeting\n\nQuestions? ➡️ audenciaalumni@audencia.com\n\n \n\n
BEGIN:VALARM
ACTION:DISPLAY
TRIGGER:-PT60M
DESCRIPTION:Webinar Engineer-Managers “Impact of COVID-19 on Supply Chain management”
END:VALARM
END:VEVENT
END:VCALENDAR