BEGIN:VCALENDAR
VERSION:2.0
X-WR-TIMEZONE:Europe/Paris
PRODID:-//Audencia//NONSGML v1.0//EN
CALSCALE:GREGORIAN
BEGIN:VEVENT
SUMMARY:Parcours Carrière Nouvel Elan 04 & 05 décembre 2017 (2 jours) : Définir son projet
DTSTART:20171204T083000
DTEND:20171205T173000
UID:86
DTSTAMP:20260420T005559
LOCATION:95 rue Falguière 75015 PARIS
DESCRIPTION:Un parcours ciblé en 2 temps pour les diplômés expérimentés  \n \n\nDéfinir son projet \n\nCe parcours est pour toi si tu as envie de changement et tu as besoin d'être accompagné pour :  \n1. Apprendre à bien te connaître pour faire les bons choix, en identifiant tes motivations, tes préférences et tes forces distinctives "ce que je suis"\n2. Définir tes possibilités d’évolution "ce que je veux être"\n3. Te positionner sur 3 cibles professionnelles pour développer des contacts réseau et mettre au point un plan d’action "ce que je fais faire"\n\nOutils & Méthodes\nAtelier interactif en groupe de 6 à 12 personnes\nEntretien individuel d'une heure\nMBTI®\nSTRONG®\n \nAu programme : réflexion sur soi appuyée sur des tests reconnus (MBTI, STRONG), identification des compétences, ajustement du projet puis déploiement et confrontation avec un professionnel du recrutement. La méthode de travail a fait ses preuves et alterne travail en groupe, en individuel et entretien. \n \nLes consultantes\nCatherine CHAVIGNY (GE 89), Coach, Formatrice, Consultante RH, Fondatrice de 3C & Cie\n\nClaire ONGHENA (GE 98), Coach, Formatrice, Consultante Management & Confiance en soi, Fondatrice de CCO Coaching for Clarity\n\nAgnès MARCHAND, Responsable pôle Audencia Careers, Audencia Business School \n\n \nINSCRIPTION A LA CARTE\n\nParcours complet (4 jours) - 04 & 05 décembre 2017 / 25 & 26 janvier 2018 : Définir, tester et déployer ton projet\nEtape 2 (2 jours) - 25 & 26 janvier 2018 : Tester et déployer ton projet
BEGIN:VALARM
ACTION:DISPLAY
TRIGGER:-PT60M
DESCRIPTION:Parcours Carrière Nouvel Elan 04 & 05 décembre 2017 (2 jours) : Définir son projet
END:VALARM
END:VEVENT
END:VCALENDAR