BEGIN:VCALENDAR
VERSION:2.0
X-WR-TIMEZONE:Europe/Paris
PRODID:-//Audencia//NONSGML v1.0//EN
CALSCALE:GREGORIAN
BEGIN:VEVENT
SUMMARY:Parcours Carrière Nouvel Elan 25 & 26 janvier 2018 (2 jours) : Tester et déployer ton projet
DTSTART:20180125T083000
DTEND:20180126T173000
UID:87
DTSTAMP:20260420T005548
LOCATION:95 rue Falguière 75015 PARIS
DESCRIPTION:Un parcours ciblé pour les diplômés expérimentés  \n \n\nTester son projet \n\nCe parcours est pour toi si tu as une première idée de reconversion, tu as besoin de la structurer et de l’enclencher. \n1. S’avoir utiliser l'entretien réseau pour approfondir ses pistes et ajuster son projet \n2. Construire un pitch inspirant et unique \n3. S'engager dans un plan d’action en identifiant les étapes\n\nOutils & Méthodes\n\n\n	Atelier interactif en groupe de 6 à 12 personnes\n	Simulation d'entretien Réseau\n	Feedbacks du groupe\n\n \n\nDéployer son projet \n\nPasser à l’action et prendre confiance. \n1. Définir un plan d'action de mise en oeuvre \n2. Donner du relief à ses outils de communication : CV Pitch 3’, profil Linked In, ... \n3. Gagner en impact et en conviction dans son personnal branding lors des entretiens\n \nOutils & Méthodes\n\n\n	Atelier interactif en groupe de 6 à 12 personnes \n	Simulation entretiens / vidéos\n	Feedbacks du groupe\n	Feedbacks de spécialistes du recrutement\n\n\nAu programme : réflexion sur soi appuyée sur des tests reconnus (MBTI, STRONG), identification des compétences, ajustement du projet puis déploiement et confrontation avec un professionnel du recrutement. La méthode de travail a fait ses preuves et alterne travail en groupe, en individuel et entretien. \n 
BEGIN:VALARM
ACTION:DISPLAY
TRIGGER:-PT60M
DESCRIPTION:Parcours Carrière Nouvel Elan 25 & 26 janvier 2018 (2 jours) : Tester et déployer ton projet
END:VALARM
END:VEVENT
END:VCALENDAR