BEGIN:VCALENDAR
VERSION:2.0
X-WR-TIMEZONE:Europe/Paris
PRODID:-//Audencia//NONSGML v1.0//EN
CALSCALE:GREGORIAN
BEGIN:VEVENT
SUMMARY:Webinar : Understanding and using your strengths in challenging times
DTSTART:20210202T180000
DTEND:20260423T190228
UID:875
DTSTAMP:20260423T190228
LOCATION:
DESCRIPTION:Come join our expert Dr. Manuelle Charbonneau (GE 84) who has over 25 years of experience in leadership and career transition coaching.\n\nIn this webinar, she will help you:\n\n\n	Learn what Character Strengths are and how to spot them in yourself and others\n	Understand your unique combination of Signature Strengths\n	Apply your Signature Strengths to your everyday life and work to flourish, even in challenging times\n\n \n\nThis webinar is based on positive psychology and the research-based VIA Character Strengths assessment. It will help you increase your confidence and help you live a more engaged and fulfilling life and career.\n\nNOTE: This is an interactive webinar for Audencia students and alumni. Before the webinar, participants must complete the 15 minute free questionnaire using this link. (Create an account on this website, take the test and get your results). \n\nWebinar organised by your career center.\n \n\nZOOM LINK : https://us02web.zoom.us/j/89430433743?pwd=eW8yUytKTmFDV3ZXWHErWGh0T0hXUT09 \nMeeting ID: 894 3043 3743\nPasscode: 406504\n \n\nAbout the speaker\nManuelle Charbonneau is a business psychology and leadership development expert, founder of Charbonneau Leadership Consulting.\n\n	In English: www.charbonneauleadership.com\n	In French: www.conseilcharbonneauleadership.com\n\nShe is about connecting and applying intelligent and leading edge methods to the real and pressing challenges of leaders and their organizations. This means working with super smart people, typically C-level, senior leaders, partners and high potentials who need to grow their capabilities to the next level.\nManuelle works particularly well with:\n\n	C-suite, senior leaders, partners and high potentials in professional services firms\n	Global executives and leaders in the Euro-North American space, including the complex US-French space\n	Exceptionally talented individuals at all levels in expertise-intensive and high complexity environments\n\nLeadership transitions require thinking differently, behaving differently, speaking differently, influencing across boundaries and cultures, managing politics and operations, managing one's emotions and stress...other than that, piece of cake!\nAlthough her clients come from a variety of sectors (high tech, luxury, pharmaceutical, biotech, aerospace, consumer goods, utilities, energy, fashion, telecom, defense, academia, government, non-profits and startups), her focus at this time is on developing leaders in expertise-intensive and high complexity environments.\nShe is bilingual and bicultural American/French, and coaches and consults internationally with leaders and teams in both English and French, in person or through videoconferencing technology. \n 
BEGIN:VALARM
ACTION:DISPLAY
TRIGGER:-PT60M
DESCRIPTION:Webinar : Understanding and using your strengths in challenging times
END:VALARM
END:VEVENT
END:VCALENDAR