BEGIN:VCALENDAR
VERSION:2.0
X-WR-TIMEZONE:Europe/Paris
PRODID:-//Audencia//NONSGML v1.0//EN
CALSCALE:GREGORIAN
BEGIN:VEVENT
SUMMARY:Parcours Carrière Nouvel Elan 04 & 05 décembre 2017 - 25 & 26 janvier 2018 (4 jours) : Définir, tester et déployer ton projet
DTSTART:20171204T083000
DTEND:20180126T173000
UID:88
DTSTAMP:20260419T231258
LOCATION:95 rue Falguière 75015 PARIS
DESCRIPTION:Un parcours ciblé en 2 temps pour les diplômés expérimentés\n\n \nDéfinir ton projet \n\nCe parcours est pour toi si tu as envie de changement et tu as besoin d'être accompagné pour :  \n1. Apprendre à bien te connaître pour faire les bons choix, en identifiant tes motivations, tes préférences et tes forces distinctives "ce que je suis"\n2. Définir tes possibilités d’évolution "ce que je veux être"\n3. Te positionner sur 3 cibles professionnelles pour développer des contacts réseau et mettre au point un plan d’action "ce que je fais faire"\n\nOutils & Méthodes\nAtelier interactif en groupe de 6 à 12 personnes\nEntretien individuel d'une heure\nMBTI®\nSTRONG®\n \n\nTester ton projet \n\n\nCe parcours est pour toi si tu as une première idée de reconversion, tu as besoin de la structurer et de l’enclencher. \n1. S’avoir utiliser l'entretien réseau pour approfondir ses pistes et ajuster son projet \n2. Construire un pitch inspirant et unique \n3. S'engager dans un plan d’action en identifiant les étapes\n\nOutils & Méthodes\nAtelier interactif en groupe de 6 à 12 personnes\nSimulation d'entretien Réseau\nFeedbacks du groupe\n \n\nDéployer ton projet \n\n\nCe parcours est pour toi si tu souhaites passer à l’action et tu as besoin de prendre confiance. \n1. Définir un plan d'action de mise en oeuvre \n2. Donner du relief à ses outils de communication : CV Pitch 3’, profil Linked In, ... \n3. Gagner en impact et en conviction dans son personnal branding lors des entretiens\n \nOutils & Méthodes\nAtelier interactif en groupe de 6 à 12 personnes \nSimulation entretiens / vidéos\nFeedbacks du groupe\nFeedbacks de spécialistes du recrutement\n\nAu programme : réflexion sur soi appuyée sur des tests reconnus (MBTI, STRONG), identification des compétences, ajustement du projet puis déploiement et confrontation avec un professionnel du recrutement. La méthode de travail a fait ses preuves et alterne travail en groupe, en individuel et entretien. \n\n \n\nINSCRIPTION A LA CARTE\n\n\nEtape 1 (2 jours) - 04 & 05 décembre 2017 : Définir ton projet\nEtape 2 (2 jours) - 25 & 26 janvier 2018 : Tester et déployer ton projet
BEGIN:VALARM
ACTION:DISPLAY
TRIGGER:-PT60M
DESCRIPTION:Parcours Carrière Nouvel Elan 04 & 05 décembre 2017 - 25 & 26 janvier 2018 (4 jours) : Définir, tester et déployer ton projet
END:VALARM
END:VEVENT
END:VCALENDAR