BEGIN:VCALENDAR
VERSION:2.0
X-WR-TIMEZONE:Europe/Paris
PRODID:-//Audencia//NONSGML v1.0//EN
CALSCALE:GREGORIAN
BEGIN:VEVENT
SUMMARY:Diplômés - SOIREE GALA Audencia Alumni Awards
DTSTART:20170325T183000
DTEND:20170325T235900
UID:9
DTSTAMP:20260425T170002
LOCATION:80, boulevard de Rochechouart - 75018 Paris
DESCRIPTION:Une soirée d'exception\n\n\nInscriptions closes\n \n\nCérémonie  |  cocktail dinatoire  |  soirée avec DJ\n\n- une conférencière, Sandra Enlart, directrice générale d'Entreprise et Personnel, qui vous dira à quoi ressemblera le travail de demain,\n- des animateurs professionnels et diplômés (La Belle Boîte),\n- des alumni nominés au parcours incroyable,\n- une animation photos personnalisée (Big Shot),\n- un cocktail à bulles,\n- une soirée pétillante,\n- un DJ aux platines jusqu'à 1h30 du matin...\n\n \n\nDes tarifs privilégiés + adhésion à vie promotionnelle pour cette soirée prestige :\n\n          > Etudiants : 25€\n          > Adhérents Gold : 35€\n          > Adhérents Silver* : 45€\n          > Non adhérents : 65€\n          > Invités non diplômés : 80€\n             * pour les diplômés d'Audencia Bachelor et Audencia SciencesCom.\n          \n \n \n\n\n\n	\n		\n			\n			Diplômés\n			\n			\n			Etudiants\n			\n		\n	\n\n\nAu-delà du 21 mars, date à laquelle le nombre de participants a été communiqué au traiteur, \n\ntout désistement ne pourra être remboursé. Merci de votre compréhension.\n\n \n\n\nAprès avoir découvert les nominés et voté pour les parcours les plus inspirants du Réseau, laissez-vous embarquer pour une soirée Alumni unique aux côtés de :\n- Eric DODIN (GE 88), président du jury et directeur général de Fraikin, \n- Emeric PEYREDIEU du CHARLAT, directeur général d’Audencia Business School\n- Estelle MARIE (GE 04), présidente de l’association Audencia Alumni. \n\n\nLa révélation des 7 futurs lauréats :\n\nConsultez les profils des 23 nominés ici...\nElus par vous et un jury d’experts composé de diplômés et de membres de l’Ecole, les sept lauréats seront récompensés dans les catégories suivantes :\n\n\n \n\n\n\n\nUn grand merci à nos partenaires qui vous attendent pour vous faire vivre une soirée exceptionnelle :\n                    \n\n \n\nRejoignez les inscrits \n\ndont ceux présents uniquement sur l'ancienne plateforme myaudencianetwork.com :\n\n \n\n\n	\n		\n			Cormoreche\n			Matthieu\n			GE\n			2011\n		\n		\n			Coutareau\n			Jean-Arnold\n			GE\n			1994\n		\n		\n			Doula\n			Chris\n			GE\n			 \n		\n		\n			Fredj\n			Benjamin\n			MSCPM\n			2016\n		\n		\n			Jacopy\n			Anne-Laure\n			GE\n			2015\n		\n		\n			Jean\n			Roxane\n			GE\n			2013\n		\n		\n			Lambert\n			David\n			GE\n			2016\n		\n		\n			Le Gohebel\n			Yves\n			EXEC-MBA\n			2008\n		\n		\n			Le Gohebel\n			Veronique\n			 \n			 \n		\n		\n			Muller\n			Gilles\n			GE\n			2009\n		\n		\n			Odile\n			Mélissa\n			GE\n			2013\n		\n		\n			Oisson\n			Patrick\n			 \n			 \n		\n		\n			Place\n			Thierry\n			EXEC-MBA\n			2007\n		\n		\n			Rognant\n			Guy\n			GE\n			1963\n		\n		\n			Scaglione\n			Marie\n			GE\n			 \n		\n		\n			Wang\n			Weiming\n			IMM\n			2012\n		\n	\n\n \n\n \n\n\n \n\n\n 
BEGIN:VALARM
ACTION:DISPLAY
TRIGGER:-PT60M
DESCRIPTION:Diplômés - SOIREE GALA Audencia Alumni Awards
END:VALARM
END:VEVENT
END:VCALENDAR