BEGIN:VCALENDAR
VERSION:2.0
X-WR-TIMEZONE:Europe/Paris
PRODID:-//Audencia//NONSGML v1.0//EN
CALSCALE:GREGORIAN
BEGIN:VEVENT
SUMMARY:Lutter contre les pratiques sexistes en entreprise
DTSTART:20210608T180000
DTEND:20210608T193000
UID:986
DTSTAMP:20260425T221448
LOCATION:
DESCRIPTION: 1h30 pour comprendre la loi, les enjeux et explorer les postures qui font évoluer les pratiques en interne.\n \n\n	Mon comportement et celui des personnes de mon équipe sont-ils appropriés ?\n	En tant que manager, comment écouter, accueillir, orienter, les personnes qui me signalent des faits problematiques ?\n	Quels sont les outils à ma disposition pour agir ?\n	Comment réagir et reprendre la main face à des situations ou des personnes qui sont hors-jeu ?\n\n \nPar l’analyse de situations vidéos malheureusement communes, nous chercherons à identifier, reconnaitre avec précision les comportements hors jeu, tant au niveau de la loi, qu’en terme de management.\nCollectivement, nous explorerons les leviers disponibles pour faire évoluer les situations en interne. Nous partagerons nos expériences vécues, nos tentatives, qu’elles soient couronnées de succès ou non, nos obstacles persistants.\n \n\n	Comment bannir les blagues lourdes sans condamner la légèreté et l’humeur joyeuse ? (bien sûr c’est possible !!)\n	Comment transformer les pratiques quand le sexisme est incarné au plus haut niveau du management ?\n	Comment accueillir les signalements, en faire quoi, pour protéger qui ?\n	Comment réagir quand je suis ni victime, ni agresseur, et que les rapports hiérarchiques me sont défavorables ?\n\n \n\nSi tout se passe bien, nous trouverons le temps trop court, nous aurons envie d’approfondir encore davantage, et ce sera tant mieux !\n\nCliquez ici pour rejoindre la réunion à 18h\n\n \nA propos de l’animateur :\n \nAntoine LAMBERT est diplômé PGE en 2006. Avec 2 associés, il créé la Belle Boîte en 2012, et s’attache alors à dynamiser les pratiques managériales, réveiller la vie en entreprise en s’appuyant en grande partie sur les techniques du théâtre et de l’improvisation. Conférencier, formateur, animateur de nombreux évènements d’entreprise, il revendique un engagement militant au service d’une transformation des entreprises vers un modèle plus responsable, plus moderne… moins chiant !\n \n \n 
BEGIN:VALARM
ACTION:DISPLAY
TRIGGER:-PT60M
DESCRIPTION:Lutter contre les pratiques sexistes en entreprise
END:VALARM
END:VEVENT
END:VCALENDAR