BEGIN:VCALENDAR
VERSION:2.0
X-WR-TIMEZONE:Europe/Paris
PRODID:-//Audencia//NONSGML v1.0//EN
CALSCALE:GREGORIAN
BEGIN:VEVENT
SUMMARY:Club Marketing & Digital - Les consommateurs en 2030 ; quelle prospective et quelles stratégies post crise face aux enjeux marketing ?
DTSTART:20210615T180000
DTEND:20210615T193000
UID:987
DTSTAMP:20260421T103200
LOCATION:
DESCRIPTION:Masterclass avec Benoît Régent (GE 93) de dentsu data labs\nmardi 15 juin à 18h\n\n \n\nA quoi ressemblera le consommateur en 2030 et quelles seront ses attentes ? \nQuestion ardue mais hautement stratégique pour mettre les marques en mouvement. \n\nPour tenter d’y répondre, dentsu a mené une étude prospective en s’appuyant sur différentes sources tels que des entretiens qualitatifs avec un panel de futurologues, d’universitaires ou d’experts du groupe, complété d’enquêtes quantitatives exclusives auprès des consommateurs couvrant plus de 20 pays et plus de 30 000 personnes.\n \nBenoit Régent, DG prospective de dentsu France nous présentera les quatre thématiques illustrées de tendances, que les marques devront s’approprier pour affronter l’avenir selon ce rapport.\n\n\n A propos de l'intervenant :\n\n\n\nBenoît Régent (GE 93) est actuellement Partner et Directeur du département change prospective chez dentsu data labs\n \n\n\n\nCo-intervenante :\n\n\n\nBrigitte Neveu-Dérotrie (GE 85), animatrice du Club Marketing & Digital, fondatrice de Yélen communication (Conseil & formations réseaux sociaux B2B, Digital branding & communication d'entreprise)\n\n 
BEGIN:VALARM
ACTION:DISPLAY
TRIGGER:-PT60M
DESCRIPTION:Club Marketing & Digital - Les consommateurs en 2030 ; quelle prospective et quelles stratégies post crise face aux enjeux marketing ?
END:VALARM
END:VEVENT
END:VCALENDAR