BEGIN:VCALENDAR
VERSION:2.0
X-WR-TIMEZONE:Europe/Paris
PRODID:-//Audencia//NONSGML v1.0//EN
CALSCALE:GREGORIAN
BEGIN:VEVENT
SUMMARY:Webinar de présentation de l’incubateur
DTSTART:20210602T180000
DTEND:20210602T190000
UID:989
DTSTAMP:20260421T105115
LOCATION:
DESCRIPTION:Vous souhaitez en savoir plus sur l'incubateur ? Vous hésitez encore à déposer votre dossier de candidature pour intégrer la promotion été 2021 de l'incubateur Centrale - Audencia - ENSA ?\n \n\nParticipez au webinaire de présentation de l’incubateur avec un retour d’expérience de startups accompagnées ! \n\n \n\nInscription > 
BEGIN:VALARM
ACTION:DISPLAY
TRIGGER:-PT60M
DESCRIPTION:Webinar de présentation de l’incubateur
END:VALARM
END:VEVENT
END:VCALENDAR